BEGIN:VCALENDAR
VERSION:2.0
PRODID:-//Engage Jeffco - ECPv6.15.20//NONSGML v1.0//EN
CALSCALE:GREGORIAN
METHOD:PUBLISH
X-WR-CALNAME:Engage Jeffco
X-ORIGINAL-URL:https://engagejeffco.org
X-WR-CALDESC:Events for Engage Jeffco
REFRESH-INTERVAL;VALUE=DURATION:PT1H
X-Robots-Tag:noindex
X-PUBLISHED-TTL:PT1H
BEGIN:VTIMEZONE
TZID:America/Denver
BEGIN:DAYLIGHT
TZOFFSETFROM:-0700
TZOFFSETTO:-0600
TZNAME:MDT
DTSTART:20250309T090000
END:DAYLIGHT
BEGIN:STANDARD
TZOFFSETFROM:-0600
TZOFFSETTO:-0700
TZNAME:MST
DTSTART:20251102T080000
END:STANDARD
BEGIN:DAYLIGHT
TZOFFSETFROM:-0700
TZOFFSETTO:-0600
TZNAME:MDT
DTSTART:20260308T090000
END:DAYLIGHT
BEGIN:STANDARD
TZOFFSETFROM:-0600
TZOFFSETTO:-0700
TZNAME:MST
DTSTART:20261101T080000
END:STANDARD
BEGIN:DAYLIGHT
TZOFFSETFROM:-0700
TZOFFSETTO:-0600
TZNAME:MDT
DTSTART:20270314T090000
END:DAYLIGHT
BEGIN:STANDARD
TZOFFSETFROM:-0600
TZOFFSETTO:-0700
TZNAME:MST
DTSTART:20271107T080000
END:STANDARD
END:VTIMEZONE
BEGIN:VEVENT
DTSTART;TZID=America/Denver:20260129T190000
DTEND;TZID=America/Denver:20260129T200000
DTSTAMP:20260421T140418
CREATED:20260115T053458Z
LAST-MODIFIED:20260115T053458Z
UID:212-1769713200-1769716800@engagejeffco.org
SUMMARY:How to effectively advocate to the Jeffco Board of Education
DESCRIPTION:At Engage Jeffco\, we encourage our members to attend school board meetings\, learn about policies\, and advocate for equitable access to high-quality education in Jeffco. But have you ever been unsure about how to best advocate to the Jeffco Board of Education (BOE)? Have you wondered if it is more effective to send an email to the Board of Directors or to show up at a board meeting and speak? Have you questioned\, “Does the school board even have control over the topic I am commenting on”?\n\nWe have.\n\nFormer Jeffco BOE Director Dr. Danielle Varda will present on what the BOE’s roles and responsibilities are and how to effectively have your voice heard by them. Followed by a Q&A for you to ask any burning questions.\n\nWe hope you can join us for this conversation on Thursday\, January 29th\, from 7:00-8:00pm on Zoom https://us02web.zoom.us/j/87492595068
URL:https://engagejeffco.org/event/how-to-effectively-advocate-to-the-jeffco-board-of-education/
ATTACH;FMTTYPE=image/png:https://engagejeffco.org/wp-content/uploads/2026/01/EJ-Email-Banner.png
END:VEVENT
END:VCALENDAR