BEGIN:VCALENDAR
VERSION:2.0
PRODID:-//Engage Jeffco - ECPv6.15.20//NONSGML v1.0//EN
CALSCALE:GREGORIAN
METHOD:PUBLISH
X-WR-CALNAME:Engage Jeffco
X-ORIGINAL-URL:https://engagejeffco.org
X-WR-CALDESC:Events for Engage Jeffco
REFRESH-INTERVAL;VALUE=DURATION:PT1H
X-Robots-Tag:noindex
X-PUBLISHED-TTL:PT1H
BEGIN:VTIMEZONE
TZID:America/Denver
BEGIN:DAYLIGHT
TZOFFSETFROM:-0700
TZOFFSETTO:-0600
TZNAME:MDT
DTSTART:20240310T090000
END:DAYLIGHT
BEGIN:STANDARD
TZOFFSETFROM:-0600
TZOFFSETTO:-0700
TZNAME:MST
DTSTART:20241103T080000
END:STANDARD
BEGIN:DAYLIGHT
TZOFFSETFROM:-0700
TZOFFSETTO:-0600
TZNAME:MDT
DTSTART:20250309T090000
END:DAYLIGHT
BEGIN:STANDARD
TZOFFSETFROM:-0600
TZOFFSETTO:-0700
TZNAME:MST
DTSTART:20251102T080000
END:STANDARD
BEGIN:DAYLIGHT
TZOFFSETFROM:-0700
TZOFFSETTO:-0600
TZNAME:MDT
DTSTART:20260308T090000
END:DAYLIGHT
BEGIN:STANDARD
TZOFFSETFROM:-0600
TZOFFSETTO:-0700
TZNAME:MST
DTSTART:20261101T080000
END:STANDARD
END:VTIMEZONE
BEGIN:VEVENT
DTSTART;TZID=America/Denver:20250929T180000
DTEND;TZID=America/Denver:20250929T200000
DTSTAMP:20260421T171510
CREATED:20250912T042629Z
LAST-MODIFIED:20260115T053710Z
UID:137-1759168800-1759176000@engagejeffco.org
SUMMARY:Jeffco School Board Candidate Forum
DESCRIPTION:Please join Jeffco PTA\, Engage Jeffco\, and the Jeffco League of Women Voters as they co-host the Jeffco School Board Candidate Forum on September 29th from 6-8 pm. The forum will be held at the Jefferson Unitarian Church (14350 W 32nd Ave\, Golden\, CO). \nSpanish language interpretation will be provided. To access the live Spanish translation\, call the number below during the event. \nPhone number: 720-707-2699 #\nPasscode: 1234 \nCan’t attend in person? Watch online. The forum will be live-streamed via this link: https://boxcast.tv/view/jeffco-school-board-candidate-forum-ajoddck8lryc7r8csey7 \nAll candidates have been invited to attend this informative and engaging evening. Learn about each candidate’s platform and submit questions that matter most to you. Don’t miss out on this opportunity to make an informed decision before casting your vote. See you there! \nRSVP to this free public event: https://www.eventbrite.com/e/jeffco-school-board-candidate-forum-tickets-1669241509289?aff=oddtdtcreator \n  \nFor the post event information on the School Board Forum visit https://engagejeffco.org/2025-jeffco-school-board-election/ \n 
URL:https://engagejeffco.org/event/jeffco-school-board-candidate-forum/
LOCATION:Jefferson Unitarian Church\, 14350 West 32nd Avenue\, Golden\, CO\, 80401\, United States
ATTACH;FMTTYPE=image/jpeg:https://engagejeffco.org/wp-content/uploads/2025/09/Jeffco-School-Board.jpg
END:VEVENT
BEGIN:VEVENT
DTSTART;TZID=America/Denver:20250713T160000
DTEND;TZID=America/Denver:20250713T180000
DTSTAMP:20260421T171510
CREATED:20250620T043512Z
LAST-MODIFIED:20250620T205035Z
UID:100-1752422400-1752429600@engagejeffco.org
SUMMARY:Engage Jeffco July Happy Hour
DESCRIPTION:Join Engage Jeffco for an afternoon of connection\, partnership\, and fun! Grab a drink or some food and meet and mingle and create community with public education advocates in Jeffco. \nFamilies welcome\, bring a friend who is new to our Engage Jeffco community. \nWhere: Edgewater Public Market\nWhen: Sunday\, July 13th at 4:00-6:00pm \nLet us know you’re coming! RSVP at engagejeffco@gmail.com
URL:https://engagejeffco.org/event/engage-jeffco-july-happy-hour/
LOCATION:Edgewater Public Market\, 5505 W 20th Ave\, Edgewater\, CO\, 80214\, United States
ATTACH;FMTTYPE=image/png:https://engagejeffco.org/wp-content/uploads/2025/06/1.png
END:VEVENT
END:VCALENDAR